BEGIN:VCALENDAR
VERSION:2.0
PRODID:-//Huntingdon Crematorium and Cemetery - ECPv6.10.0//NONSGML v1.0//EN
CALSCALE:GREGORIAN
METHOD:PUBLISH
X-WR-CALNAME:Huntingdon Crematorium and Cemetery
X-ORIGINAL-URL:https://huntingdoncrematorium.co.uk
X-WR-CALDESC:Events for Huntingdon Crematorium and Cemetery
REFRESH-INTERVAL;VALUE=DURATION:PT1H
X-Robots-Tag:noindex
X-PUBLISHED-TTL:PT1H
BEGIN:VTIMEZONE
TZID:Europe/Paris
BEGIN:DAYLIGHT
TZOFFSETFROM:+0100
TZOFFSETTO:+0200
TZNAME:CEST
DTSTART:20260329T010000
END:DAYLIGHT
BEGIN:STANDARD
TZOFFSETFROM:+0200
TZOFFSETTO:+0100
TZNAME:CET
DTSTART:20261025T010000
END:STANDARD
END:VTIMEZONE
BEGIN:VEVENT
DTSTART;TZID=Europe/Paris:20260422T120000
DTEND;TZID=Europe/Paris:20260422T120000
DTSTAMP:20260422T122143
CREATED:20260415T143428Z
LAST-MODIFIED:20260415T143428Z
UID:10006156-1776859200-1776859200@huntingdoncrematorium.co.uk
SUMMARY:Mrs Janice Margaret Benson
DESCRIPTION:
URL:https://huntingdoncrematorium.co.uk/services/mrs-janice-margaret-benson/
END:VEVENT
BEGIN:VEVENT
DTSTART;TZID=Europe/Paris:20260422T131500
DTEND;TZID=Europe/Paris:20260422T131500
DTSTAMP:20260422T122143
CREATED:20260415T143428Z
LAST-MODIFIED:20260415T143428Z
UID:10006157-1776863700-1776863700@huntingdoncrematorium.co.uk
SUMMARY:Mr John Nicholas Lambert
DESCRIPTION:
URL:https://huntingdoncrematorium.co.uk/services/mr-john-nicholas-lambert/
END:VEVENT
BEGIN:VEVENT
DTSTART;TZID=Europe/Paris:20260422T143000
DTEND;TZID=Europe/Paris:20260422T143000
DTSTAMP:20260422T122143
CREATED:20260415T143428Z
LAST-MODIFIED:20260415T143428Z
UID:10006158-1776868200-1776868200@huntingdoncrematorium.co.uk
SUMMARY:Mr Dennis Aston
DESCRIPTION:
URL:https://huntingdoncrematorium.co.uk/services/mr-dennis-aston/
END:VEVENT
END:VCALENDAR