BEGIN:VCALENDAR
VERSION:2.0
PRODID:-//Huntingdon Crematorium and Cemetery - ECPv6.10.0//NONSGML v1.0//EN
CALSCALE:GREGORIAN
METHOD:PUBLISH
X-WR-CALNAME:Huntingdon Crematorium and Cemetery
X-ORIGINAL-URL:https://huntingdoncrematorium.co.uk
X-WR-CALDESC:Events for Huntingdon Crematorium and Cemetery
REFRESH-INTERVAL;VALUE=DURATION:PT1H
X-Robots-Tag:noindex
X-PUBLISHED-TTL:PT1H
BEGIN:VTIMEZONE
TZID:Europe/Paris
BEGIN:DAYLIGHT
TZOFFSETFROM:+0100
TZOFFSETTO:+0200
TZNAME:CEST
DTSTART:20260329T010000
END:DAYLIGHT
BEGIN:STANDARD
TZOFFSETFROM:+0200
TZOFFSETTO:+0100
TZNAME:CET
DTSTART:20261025T010000
END:STANDARD
END:VTIMEZONE
BEGIN:VEVENT
DTSTART;TZID=Europe/Paris:20260420T090000
DTEND;TZID=Europe/Paris:20260420T090000
DTSTAMP:20260420T013519
CREATED:20260415T143412Z
LAST-MODIFIED:20260415T143413Z
UID:10006149-1776675600-1776675600@huntingdoncrematorium.co.uk
SUMMARY:Service
DESCRIPTION:
URL:https://huntingdoncrematorium.co.uk/services/service-2/
END:VEVENT
BEGIN:VEVENT
DTSTART;TZID=Europe/Paris:20260420T093000
DTEND;TZID=Europe/Paris:20260420T093000
DTSTAMP:20260420T013519
CREATED:20260415T143412Z
LAST-MODIFIED:20260415T143413Z
UID:10006150-1776677400-1776677400@huntingdoncrematorium.co.uk
SUMMARY:Miss Betty Winifred Leadbeater
DESCRIPTION:
URL:https://huntingdoncrematorium.co.uk/services/miss-betty-winifred-leadbeater/
END:VEVENT
BEGIN:VEVENT
DTSTART;TZID=Europe/Paris:20260420T120000
DTEND;TZID=Europe/Paris:20260420T120000
DTSTAMP:20260420T013519
CREATED:20260415T143412Z
LAST-MODIFIED:20260415T143413Z
UID:10006151-1776686400-1776686400@huntingdoncrematorium.co.uk
SUMMARY:Mrs Susan Bridget Normington
DESCRIPTION:
URL:https://huntingdoncrematorium.co.uk/services/mrs-susan-bridget-normington/
END:VEVENT
BEGIN:VEVENT
DTSTART;TZID=Europe/Paris:20260420T131500
DTEND;TZID=Europe/Paris:20260420T131500
DTSTAMP:20260420T013519
CREATED:20260415T143412Z
LAST-MODIFIED:20260415T143413Z
UID:10006152-1776690900-1776690900@huntingdoncrematorium.co.uk
SUMMARY:Mr Gerard John Lee
DESCRIPTION:
URL:https://huntingdoncrematorium.co.uk/services/mr-gerard-john-lee/
END:VEVENT
BEGIN:VEVENT
DTSTART;TZID=Europe/Paris:20260420T143000
DTEND;TZID=Europe/Paris:20260420T143000
DTSTAMP:20260420T013519
CREATED:20260415T143412Z
LAST-MODIFIED:20260415T143413Z
UID:10006153-1776695400-1776695400@huntingdoncrematorium.co.uk
SUMMARY:Service
DESCRIPTION:
URL:https://huntingdoncrematorium.co.uk/services/service-3/
END:VEVENT
BEGIN:VEVENT
DTSTART;TZID=Europe/Paris:20260420T154500
DTEND;TZID=Europe/Paris:20260420T154500
DTSTAMP:20260420T013519
CREATED:20260415T143427Z
LAST-MODIFIED:20260415T143427Z
UID:10006154-1776699900-1776699900@huntingdoncrematorium.co.uk
SUMMARY:Service
DESCRIPTION:
URL:https://huntingdoncrematorium.co.uk/services/service-4/
END:VEVENT
END:VCALENDAR